Package: GIGSEAdata Version: 1.29.0 Command: /home/biocbuild/bbs-3.23-bioc/R/bin/R CMD check --install=check:GIGSEAdata.install-out.txt --library=/home/biocbuild/bbs-3.23-bioc/R/site-library --timings GIGSEAdata_1.29.0.tar.gz StartedAt: 2025-11-18 12:27:35 -0500 (Tue, 18 Nov 2025) EndedAt: 2025-11-18 12:27:55 -0500 (Tue, 18 Nov 2025) EllapsedTime: 20.3 seconds RetCode: 0 Status: WARNINGS CheckDir: GIGSEAdata.Rcheck Warnings: 1