Package: FieldEffectCrc Version: 1.21.0 Command: /home/biocbuild/bbs-3.23-bioc/R/bin/R CMD INSTALL FieldEffectCrc StartedAt: 2025-11-18 11:00:14 -0500 (Tue, 18 Nov 2025) EndedAt: 2025-11-18 11:00:42 -0500 (Tue, 18 Nov 2025) EllapsedTime: 28.1 seconds RetCode: 0 Status: OK