Package: FANTOM3and4CAGE Version: 1.47.0 Command: /home/biocbuild/bbs-3.23-bioc/R/bin/R CMD INSTALL FANTOM3and4CAGE StartedAt: 2025-11-13 10:55:11 -0500 (Thu, 13 Nov 2025) EndedAt: 2025-11-13 10:55:13 -0500 (Thu, 13 Nov 2025) EllapsedTime: 2.2 seconds RetCode: 0 Status: OK