Package: EatonEtAlChIPseq Version: 0.49.0 Command: /home/biocbuild/bbs-3.23-bioc/R/bin/R CMD INSTALL EatonEtAlChIPseq StartedAt: 2025-11-18 11:01:05 -0500 (Tue, 18 Nov 2025) EndedAt: 2025-11-18 11:01:27 -0500 (Tue, 18 Nov 2025) EllapsedTime: 21.7 seconds RetCode: 0 Status: OK