Package: EatonEtAlChIPseq Version: 0.49.0 Command: /home/biocbuild/bbs-3.23-bioc/R/bin/R CMD check --install=check:EatonEtAlChIPseq.install-out.txt --library=/home/biocbuild/bbs-3.23-bioc/R/site-library --timings EatonEtAlChIPseq_0.49.0.tar.gz StartedAt: 2025-11-13 12:19:04 -0500 (Thu, 13 Nov 2025) EndedAt: 2025-11-13 12:21:39 -0500 (Thu, 13 Nov 2025) EllapsedTime: 154.4 seconds RetCode: 0 Status: WARNINGS CheckDir: EatonEtAlChIPseq.Rcheck Warnings: 1