Package: EatonEtAlChIPseq Version: 0.49.0 Command: /home/biocbuild/bbs-3.23-bioc/R/bin/R CMD build --keep-empty-dirs --no-resave-data EatonEtAlChIPseq StartedAt: 2025-11-18 11:16:19 -0500 (Tue, 18 Nov 2025) EndedAt: 2025-11-18 11:16:21 -0500 (Tue, 18 Nov 2025) EllapsedTime: 2.3 seconds RetCode: 0 Status: OK PackageFile: EatonEtAlChIPseq_0.49.0.tar.gz PackageFileSize: 20.5 MiB