Package: ELMER.data Version: 2.33.0 Command: /home/biocbuild/bbs-3.22-bioc/R/bin/R CMD build --keep-empty-dirs --no-resave-data ELMER.data StartedAt: 2025-06-26 11:16:33 -0400 (Thu, 26 Jun 2025) EndedAt: 2025-06-26 11:18:30 -0400 (Thu, 26 Jun 2025) EllapsedTime: 117.3 seconds RetCode: 0 Status: OK PackageFile: ELMER.data_2.33.0.tar.gz PackageFileSize: 293.4 MiB