Package: DvDdata Version: 1.47.0 Command: /home/biocbuild/bbs-3.23-bioc/R/bin/R CMD build --keep-empty-dirs --no-resave-data DvDdata StartedAt: 2025-11-18 11:16:06 -0500 (Tue, 18 Nov 2025) EndedAt: 2025-11-18 11:16:19 -0500 (Tue, 18 Nov 2025) EllapsedTime: 12.6 seconds RetCode: 0 Status: OK PackageFile: DvDdata_1.47.0.tar.gz PackageFileSize: 43.89 MiB