Package: DropletTestFiles Version: 1.21.0 Command: /home/biocbuild/bbs-3.23-bioc/R/bin/R CMD build --keep-empty-dirs --no-resave-data DropletTestFiles StartedAt: 2025-11-18 11:15:55 -0500 (Tue, 18 Nov 2025) EndedAt: 2025-11-18 11:16:27 -0500 (Tue, 18 Nov 2025) EllapsedTime: 32.3 seconds RetCode: 0 Status: OK PackageFile: DropletTestFiles_1.21.0.tar.gz PackageFileSize: 226.5 KiB