Package: DonaPLLP2013 Version: 1.49.0 Command: /home/biocbuild/bbs-3.23-bioc/R/bin/R CMD INSTALL DonaPLLP2013 StartedAt: 2025-11-18 10:57:52 -0500 (Tue, 18 Nov 2025) EndedAt: 2025-11-18 10:57:55 -0500 (Tue, 18 Nov 2025) EllapsedTime: 2.9 seconds RetCode: 0 Status: OK