Package: DoReMiTra Version: 1.1.0 Command: /home/biocbuild/bbs-3.23-bioc/R/bin/R CMD check --install=check:DoReMiTra.install-out.txt --library=/home/biocbuild/bbs-3.23-bioc/R/site-library --timings DoReMiTra_1.1.0.tar.gz StartedAt: 2025-11-18 12:17:48 -0500 (Tue, 18 Nov 2025) EndedAt: 2025-11-18 12:26:19 -0500 (Tue, 18 Nov 2025) EllapsedTime: 511.1 seconds RetCode: 0 Status: OK CheckDir: DoReMiTra.Rcheck Warnings: 0