Package: DLBCL Version: 1.51.0 Command: /home/biocbuild/bbs-3.23-bioc/R/bin/R CMD INSTALL DLBCL StartedAt: 2025-11-18 10:56:32 -0500 (Tue, 18 Nov 2025) EndedAt: 2025-11-18 10:56:36 -0500 (Tue, 18 Nov 2025) EllapsedTime: 4.4 seconds RetCode: 0 Status: OK