Package: DExMAdata Version: 1.19.0 Command: /home/biocbuild/bbs-3.23-bioc/R/bin/R CMD INSTALL DExMAdata StartedAt: 2025-11-18 10:56:14 -0500 (Tue, 18 Nov 2025) EndedAt: 2025-11-18 10:57:11 -0500 (Tue, 18 Nov 2025) EllapsedTime: 56.6 seconds RetCode: 0 Status: OK