Package: DExMAdata Version: 1.19.0 Command: /home/biocbuild/bbs-3.23-bioc/R/bin/R CMD build --keep-empty-dirs --no-resave-data DExMAdata StartedAt: 2025-11-18 11:14:51 -0500 (Tue, 18 Nov 2025) EndedAt: 2025-11-18 11:15:55 -0500 (Tue, 18 Nov 2025) EllapsedTime: 63.4 seconds RetCode: 0 Status: OK PackageFile: DExMAdata_1.19.0.tar.gz PackageFileSize: 7.389 MiB