Package: CoSIAdata Version: 1.11.0 Command: /home/biocbuild/bbs-3.23-bioc/R/bin/R CMD build --keep-empty-dirs --no-resave-data CoSIAdata StartedAt: 2025-11-13 11:11:15 -0500 (Thu, 13 Nov 2025) EndedAt: 2025-11-13 11:11:38 -0500 (Thu, 13 Nov 2025) EllapsedTime: 23.5 seconds RetCode: 0 Status: OK PackageFile: CoSIAdata_1.11.0.tar.gz PackageFileSize: 296.4 KiB