Package: ChAMPdata Version: 2.43.0 Command: /home/biocbuild/bbs-3.23-bioc/R/bin/R CMD INSTALL ChAMPdata StartedAt: 2025-11-18 11:00:38 -0500 (Tue, 18 Nov 2025) EndedAt: 2025-11-18 11:00:44 -0500 (Tue, 18 Nov 2025) EllapsedTime: 5.8 seconds RetCode: 0 Status: OK