Package: ChAMPdata Version: 2.43.0 Command: /home/biocbuild/bbs-3.23-bioc/R/bin/R CMD check --install=check:ChAMPdata.install-out.txt --library=/home/biocbuild/bbs-3.23-bioc/R/site-library --timings ChAMPdata_2.43.0.tar.gz StartedAt: 2025-11-18 12:07:13 -0500 (Tue, 18 Nov 2025) EndedAt: 2025-11-18 12:12:04 -0500 (Tue, 18 Nov 2025) EllapsedTime: 291.5 seconds RetCode: 0 Status: WARNINGS CheckDir: ChAMPdata.Rcheck Warnings: 1