Package: CellMapperData Version: 1.37.0 Command: /home/biocbuild/bbs-3.23-bioc/R/bin/R CMD INSTALL CellMapperData StartedAt: 2025-11-20 10:57:27 -0500 (Thu, 20 Nov 2025) EndedAt: 2025-11-20 10:57:36 -0500 (Thu, 20 Nov 2025) EllapsedTime: 9.0 seconds RetCode: 0 Status: OK