Package: CardinalWorkflows Version: 1.43.0 Command: /home/biocbuild/bbs-3.23-bioc/R/bin/R CMD INSTALL CardinalWorkflows StartedAt: 2025-11-20 10:57:59 -0500 (Thu, 20 Nov 2025) EndedAt: 2025-11-20 10:58:11 -0500 (Thu, 20 Nov 2025) EllapsedTime: 12.5 seconds RetCode: 0 Status: OK