Package: CardinalWorkflows Version: 1.43.0 Command: /home/biocbuild/bbs-3.23-bioc/R/bin/R CMD build --keep-empty-dirs --no-resave-data CardinalWorkflows StartedAt: 2025-11-20 11:08:46 -0500 (Thu, 20 Nov 2025) EndedAt: 2025-11-20 11:58:10 -0500 (Thu, 20 Nov 2025) EllapsedTime: 2963.6 seconds RetCode: 0 Status: OK PackageFile: CardinalWorkflows_1.43.0.tar.gz PackageFileSize: 53.53 MiB