Package: COPDSexualDimorphism.data Version: 1.47.0 Command: /home/biocbuild/bbs-3.23-bioc/R/bin/R CMD build --keep-empty-dirs --no-resave-data COPDSexualDimorphism.data StartedAt: 2025-11-18 11:11:15 -0500 (Tue, 18 Nov 2025) EndedAt: 2025-11-18 11:11:22 -0500 (Tue, 18 Nov 2025) EllapsedTime: 7.1 seconds RetCode: 0 Status: OK PackageFile: COPDSexualDimorphism.data_1.47.0.tar.gz PackageFileSize: 34.3 MiB