Package: COHCAPanno Version: 1.47.0 Command: /home/biocbuild/bbs-3.23-bioc/R/bin/R CMD build --keep-empty-dirs --no-resave-data COHCAPanno StartedAt: 2025-11-18 11:10:54 -0500 (Tue, 18 Nov 2025) EndedAt: 2025-11-18 11:11:01 -0500 (Tue, 18 Nov 2025) EllapsedTime: 7.0 seconds RetCode: 0 Status: OK PackageFile: COHCAPanno_1.47.0.tar.gz PackageFileSize: 9.328 MiB