Package: CLLmethylation Version: 1.31.0 Command: /home/biocbuild/bbs-3.23-bioc/R/bin/R CMD build --keep-empty-dirs --no-resave-data CLLmethylation StartedAt: 2025-11-13 11:10:14 -0500 (Thu, 13 Nov 2025) EndedAt: 2025-11-13 11:11:18 -0500 (Thu, 13 Nov 2025) EllapsedTime: 64.2 seconds RetCode: 0 Status: OK PackageFile: CLLmethylation_1.31.0.tar.gz PackageFileSize: 361.9 KiB