Package: AssessORFData Version: 1.29.0 Command: /home/biocbuild/bbs-3.23-bioc/R/bin/R CMD INSTALL AssessORFData StartedAt: 2025-11-18 10:56:43 -0500 (Tue, 18 Nov 2025) EndedAt: 2025-11-18 10:57:27 -0500 (Tue, 18 Nov 2025) EllapsedTime: 43.9 seconds RetCode: 0 Status: OK