Package: AshkenazimSonChr21 Version: 1.41.0 Command: /home/biocbuild/bbs-3.23-bioc/R/bin/R CMD INSTALL AshkenazimSonChr21 StartedAt: 2025-11-18 10:55:41 -0500 (Tue, 18 Nov 2025) EndedAt: 2025-11-18 10:55:45 -0500 (Tue, 18 Nov 2025) EllapsedTime: 4.4 seconds RetCode: 0 Status: OK