Package: AshkenazimSonChr21 Version: 1.41.0 Command: /home/biocbuild/bbs-3.23-bioc/R/bin/R CMD check --install=check:AshkenazimSonChr21.install-out.txt --library=/home/biocbuild/bbs-3.23-bioc/R/site-library --timings AshkenazimSonChr21_1.41.0.tar.gz StartedAt: 2025-11-18 12:02:47 -0500 (Tue, 18 Nov 2025) EndedAt: 2025-11-18 12:03:58 -0500 (Tue, 18 Nov 2025) EllapsedTime: 71.5 seconds RetCode: 0 Status: OK CheckDir: AshkenazimSonChr21.Rcheck Warnings: 0