Package: Affymoe4302Expr Version: 1.49.0 Command: /home/biocbuild/bbs-3.23-bioc/R/bin/R CMD INSTALL Affymoe4302Expr StartedAt: 2025-11-18 10:55:12 -0500 (Tue, 18 Nov 2025) EndedAt: 2025-11-18 10:55:14 -0500 (Tue, 18 Nov 2025) EllapsedTime: 1.9 seconds RetCode: 0 Status: OK