Package: Affyhgu133aExpr Version: 1.49.0 Command: /home/biocbuild/bbs-3.23-bioc/R/bin/R CMD INSTALL Affyhgu133aExpr StartedAt: 2025-11-18 10:55:41 -0500 (Tue, 18 Nov 2025) EndedAt: 2025-11-18 10:55:45 -0500 (Tue, 18 Nov 2025) EllapsedTime: 3.6 seconds RetCode: 0 Status: OK