Package: Affyhgu133Plus2Expr Version: 1.45.0 Command: /home/biocbuild/bbs-3.23-bioc/R/bin/R CMD check --install=check:Affyhgu133Plus2Expr.install-out.txt --library=/home/biocbuild/bbs-3.23-bioc/R/site-library --timings Affyhgu133Plus2Expr_1.45.0.tar.gz StartedAt: 2025-11-18 12:02:47 -0500 (Tue, 18 Nov 2025) EndedAt: 2025-11-18 12:03:14 -0500 (Tue, 18 Nov 2025) EllapsedTime: 27.2 seconds RetCode: 0 Status: OK CheckDir: Affyhgu133Plus2Expr.Rcheck Warnings: 0