Package: Affyhgu133A2Expr Version: 1.47.0 Command: /home/biocbuild/bbs-3.23-bioc/R/bin/R CMD check --install=check:Affyhgu133A2Expr.install-out.txt --library=/home/biocbuild/bbs-3.23-bioc/R/site-library --timings Affyhgu133A2Expr_1.47.0.tar.gz StartedAt: 2025-11-18 12:02:47 -0500 (Tue, 18 Nov 2025) EndedAt: 2025-11-18 12:03:04 -0500 (Tue, 18 Nov 2025) EllapsedTime: 17.0 seconds RetCode: 0 Status: OK CheckDir: Affyhgu133A2Expr.Rcheck Warnings: 0