Package: ALLMLL Version: 1.51.0 Command: /home/biocbuild/bbs-3.23-bioc/R/bin/R CMD INSTALL ALLMLL StartedAt: 2025-11-18 10:56:29 -0500 (Tue, 18 Nov 2025) EndedAt: 2025-11-18 10:56:38 -0500 (Tue, 18 Nov 2025) EllapsedTime: 8.8 seconds RetCode: 0 Status: OK