Package: geneplast.data Version: 0.99.9 Command: /home/biocbuild/bbs-3.22-bioc/R/bin/R CMD INSTALL geneplast.data StartedAt: 2025-07-02 06:30:20 -0400 (Wed, 02 Jul 2025) EndedAt: 2025-07-02 06:30:21 -0400 (Wed, 02 Jul 2025) EllapsedTime: 1.4 seconds RetCode: 0 Status: OK