Package: geneplast.data Version: 0.99.9 Command: /home/biocbuild/bbs-3.22-bioc/R/bin/R CMD build --keep-empty-dirs --no-resave-data geneplast.data StartedAt: 2025-07-02 06:31:25 -0400 (Wed, 02 Jul 2025) EndedAt: 2025-07-02 06:32:17 -0400 (Wed, 02 Jul 2025) EllapsedTime: 52.7 seconds RetCode: 0 Status: OK PackageFile: geneplast.data_0.99.9.tar.gz PackageFileSize: 3.244 MiB