Package: SomaScan.db Version: 0.99.10 Command: /home/biocbuild/bbs-3.22-bioc/R/bin/R CMD INSTALL SomaScan.db StartedAt: 2025-07-16 06:30:07 -0400 (Wed, 16 Jul 2025) EndedAt: 2025-07-16 06:30:20 -0400 (Wed, 16 Jul 2025) EllapsedTime: 12.6 seconds RetCode: 0 Status: OK