Package: AHCytoBands Version: 0.99.1 Command: /home/biocbuild/bbs-3.22-bioc/R/bin/R CMD build --keep-empty-dirs --no-resave-data AHCytoBands StartedAt: 2025-07-02 06:31:09 -0400 (Wed, 02 Jul 2025) EndedAt: 2025-07-02 06:31:10 -0400 (Wed, 02 Jul 2025) EllapsedTime: 1.0 seconds RetCode: 0 Status: OK PackageFile: AHCytoBands_0.99.1.tar.gz PackageFileSize: 2.044 KiB