Package: OSCA Version: 1.19.0 Command: /home/biocbuild/bbs-3.22-bioc/R/bin/R CMD INSTALL OSCA StartedAt: 2025-08-11 06:15:07 -0400 (Mon, 11 Aug 2025) EndedAt: 2025-08-11 06:15:09 -0400 (Mon, 11 Aug 2025) EllapsedTime: 2.4 seconds RetCode: 0 Status: OK