############################################################################## ############################################################################## ### ### Running command: ### ### /home/biocbuild/bbs-3.22-bioc/R/bin/R CMD build --keep-empty-dirs --no-resave-data OHCA ### ############################################################################## ############################################################################## * checking for file ‘OHCA/DESCRIPTION’ ... OK * preparing ‘OHCA’: * checking DESCRIPTION meta-information ... OK * installing the package to build vignettes * creating vignettes ... OK * checking for LF line-endings in source and make files and shell scripts * checking for empty or unneeded directories Omitted ‘LazyData’ from DESCRIPTION * creating default NAMESPACE file * building ‘OHCA_1.5.0.tar.gz’ Warning in utils::tar(filepath, pkgname, compression = compression, compression_level = 9L, : storing paths of more than 100 bytes is not portable: ‘OHCA/inst/doc/book/site_libs/quarto-html/quarto-syntax-highlighting-c1f63da3e08f13bc72dc17e92cfd001d.css’