Package: BiocBookDemo Version: 1.7.0 Command: /home/biocbuild/bbs-3.22-bioc/R/bin/R CMD INSTALL BiocBookDemo StartedAt: 2025-08-11 06:15:07 -0400 (Mon, 11 Aug 2025) EndedAt: 2025-08-11 06:15:08 -0400 (Mon, 11 Aug 2025) EllapsedTime: 0.8 seconds RetCode: 0 Status: OK