Books build report for BioC 3.23

This page was generated on 2025-11-21 14:30 -0500 (Fri, 21 Nov 2025).

Approx. Package Snapshot Date/Time (git pull): 2025-11-21 06:30 -0500 (Fri, 21 Nov 2025)
See this page for all the Bioconductor builds and their schedule.

HostnameOSArch (*)R versionInstalled pkgs
nebbiolo1Linux (Ubuntu 24.04.3 LTS)x86_64R Under development (unstable) (2025-10-20 r88955) -- "Unsuffered Consequences" 4829
lconwaymacOS 12.7.6 Montereyx86_64R Under development (unstable) (2025-10-21 r88958) -- "Unsuffered Consequences" 4602
kjohnson3macOS 13.7.7 Venturaarm64R Under development (unstable) (2025-11-04 r88984) -- "Unsuffered Consequences" 4566
Click on any hostname to see more info about the system (e.g. compilers)      (*) as reported by 'uname -p', except on Windows and Mac OS X

Package status is indicated by one of the following glyphs
  TIMEOUT  
INSTALL, BUILD or CHECK of package took more than 40, 300 or 5 minutes, respectively
  ERROR  
Bad DESCRIPTION file, or INSTALL or BUILD of package failed, or CHECK produced errors
  WARNINGS  
CHECK of package produced warnings
  OK  
INSTALL, BUILD or CHECK of package went OK
  NA  
INSTALL, BUILD or CHECK result is not available because of an anomaly in the Build System
skipped
CHECK of package was skipped because the BUILD step failed
Click on any glyph in the report below to access the detailed report.
Package propagation status is indicated by one of the following LEDs
YES YES: Package was propagated because it didn't previously exist or version was bumped
NO NO: Package was not propagated because of a problem (impossible dependencies, or version lower than what is already propagated)
UNNEEDED UNNEEDED: Package was not propagated because it is already in the repository with this version. A version bump is required in order to propagate it

A crossed-out package name indicates that the package is deprecated


QUICK STATSOS / ArchINSTALLBUILDCHECK
nebbiolo1Linux (Ubuntu 24.04.3 LTS) / x86_64
0011
029
0009
lconwaymacOS 12.7.6 Monterey / x86_64
038
083
0003
kjohnson3macOS 13.7.7 Ventura / arm64
0011
038
0008
Package 1/11HostnameOS / ArchINSTALLBUILDCHECK
BiocBookDemo 1.9.0  (landing page)
Jacques Serizay
git_last_commit: 72e3e55
git_last_commit_date: 2025-10-29 10:13:07 -0500
nebbiolo1Linux (Ubuntu 24.04.3 LTS) / x86_64  OK    OK    OK  UNNEEDED, same version is already published
lconwaymacOS 12.7.6 Monterey / x86_64  OK    OK    OK  
kjohnson3macOS 13.7.7 Ventura / arm64  OK    OK    OK  
Package 2/11HostnameOS / ArchINSTALLBUILDCHECK
csawBook 1.19.0  (landing page)
Aaron Lun
git_last_commit: 8f3f934
git_last_commit_date: 2025-10-29 10:12:51 -0500
nebbiolo1Linux (Ubuntu 24.04.3 LTS) / x86_64  OK    OK    OK  UNNEEDED, same version is already published
lconwaymacOS 12.7.6 Monterey / x86_64  OK    OK    OK  
kjohnson3macOS 13.7.7 Ventura / arm64  OK    OK    OK  
Package 3/11HostnameOS / ArchINSTALLBUILDCHECK
OHCA 1.7.0  (landing page)
Jacques Serizay
git_last_commit: bde7569
git_last_commit_date: 2025-10-29 10:13:09 -0500
nebbiolo1Linux (Ubuntu 24.04.3 LTS) / x86_64  OK    OK    OK  NO, package depends on 'HiCool' which is not available
lconwaymacOS 12.7.6 Monterey / x86_64  OK    OK    OK  
kjohnson3macOS 13.7.7 Ventura / arm64  OK    OK    OK  
Package 4/11HostnameOS / ArchINSTALLBUILDCHECK
OSCA 1.21.0  (landing page)
Alan O'Callaghan
git_last_commit: 85c2837
git_last_commit_date: 2025-10-29 10:12:46 -0500
nebbiolo1Linux (Ubuntu 24.04.3 LTS) / x86_64  OK    OK    OK  UNNEEDED, same version is already published
lconwaymacOS 12.7.6 Monterey / x86_64  OK    ERROR  skipped
kjohnson3macOS 13.7.7 Ventura / arm64  OK    OK    OK  
Package 5/11HostnameOS / ArchINSTALLBUILDCHECK
OSCA.advanced 1.19.1  (landing page)
Ludwig Geistlinger
git_last_commit: 55de68d
git_last_commit_date: 2025-11-18 20:18:19 -0500
nebbiolo1Linux (Ubuntu 24.04.3 LTS) / x86_64  OK    ERROR  skipped
lconwaymacOS 12.7.6 Monterey / x86_64  ERROR    ERROR  skipped
kjohnson3macOS 13.7.7 Ventura / arm64  OK    ERROR  skipped
Package 6/11HostnameOS / ArchINSTALLBUILDCHECK
OSCA.basic 1.19.0  (landing page)
Peter Hickey
git_last_commit: 4e263cf
git_last_commit_date: 2025-10-29 10:12:53 -0500
nebbiolo1Linux (Ubuntu 24.04.3 LTS) / x86_64  OK    OK    OK  UNNEEDED, same version is already published
lconwaymacOS 12.7.6 Monterey / x86_64  ERROR    ERROR  skipped
kjohnson3macOS 13.7.7 Ventura / arm64  OK    OK    OK  
Package 7/11HostnameOS / ArchINSTALLBUILDCHECK
OSCA.intro 1.19.0  (landing page)
Ludwig Geistlinger
git_last_commit: f579aa2
git_last_commit_date: 2025-10-29 10:12:56 -0500
nebbiolo1Linux (Ubuntu 24.04.3 LTS) / x86_64  OK    OK    OK  UNNEEDED, same version is already published
lconwaymacOS 12.7.6 Monterey / x86_64  OK    ERROR  skipped
kjohnson3macOS 13.7.7 Ventura / arm64  OK    ERROR  skipped
Package 8/11HostnameOS / ArchINSTALLBUILDCHECK
OSCA.multisample 1.19.0  (landing page)
Alan O'Callaghan
git_last_commit: 1af73fb
git_last_commit_date: 2025-10-29 10:13:04 -0500
nebbiolo1Linux (Ubuntu 24.04.3 LTS) / x86_64  OK    OK    OK  UNNEEDED, same version is already published
lconwaymacOS 12.7.6 Monterey / x86_64  OK    ERROR  skipped
kjohnson3macOS 13.7.7 Ventura / arm64  OK    OK    OK  
Package 9/11HostnameOS / ArchINSTALLBUILDCHECK
OSCA.workflows 1.19.0  (landing page)
Peter Hickey
git_last_commit: e45c85f
git_last_commit_date: 2025-10-29 10:12:59 -0500
nebbiolo1Linux (Ubuntu 24.04.3 LTS) / x86_64  OK    OK    OK  UNNEEDED, same version is already published
lconwaymacOS 12.7.6 Monterey / x86_64  OK    ERROR  skipped
kjohnson3macOS 13.7.7 Ventura / arm64  OK    OK    OK  
Package 10/11HostnameOS / ArchINSTALLBUILDCHECK
OSTA 1.1.1  (landing page)
Lukas M. Weber
git_last_commit: f37c1f6
git_last_commit_date: 2025-11-04 13:07:48 -0500
nebbiolo1Linux (Ubuntu 24.04.3 LTS) / x86_64  OK    ERROR  skipped
lconwaymacOS 12.7.6 Monterey / x86_64  OK    ERROR  skipped
kjohnson3macOS 13.7.7 Ventura / arm64  OK    ERROR  skipped
Package 11/11HostnameOS / ArchINSTALLBUILDCHECK
SingleRBook 1.21.0  (landing page)
Aaron Lun
git_last_commit: fb8231d
git_last_commit_date: 2025-10-29 10:12:49 -0500
nebbiolo1Linux (Ubuntu 24.04.3 LTS) / x86_64  OK    OK    OK  UNNEEDED, same version is already published
lconwaymacOS 12.7.6 Monterey / x86_64  ERROR    ERROR  skipped
kjohnson3macOS 13.7.7 Ventura / arm64  OK    OK    OK