Package: csawBook Version: 1.19.0 Command: /home/biocbuild/bbs-3.23-bioc/R/bin/R CMD build --keep-empty-dirs --no-resave-data csawBook StartedAt: 2025-11-21 10:17:23 -0500 (Fri, 21 Nov 2025) EndedAt: 2025-11-21 11:42:18 -0500 (Fri, 21 Nov 2025) EllapsedTime: 5095.4 seconds RetCode: 0 Status: OK PackageFile: csawBook_1.19.0.tar.gz PackageFileSize: 2.868 MiB