Package: csawBook Version: 1.17.0 Command: /Library/Frameworks/R.framework/Resources/bin/R CMD INSTALL csawBook StartedAt: 2025-10-01 06:15:18 -0400 (Wed, 01 Oct 2025) EndedAt: 2025-10-01 06:15:48 -0400 (Wed, 01 Oct 2025) EllapsedTime: 29.4 seconds RetCode: 0 Status: OK