Package: csawBook Version: 1.17.0 Command: rm -rf csawBook.book && mkdir csawBook.book && /Users/biocbuild/BBS/utils/deploy_book.py csawBook_1.17.0.tar.gz csawBook.book StartedAt: 2025-10-01 07:24:48 -0400 (Wed, 01 Oct 2025) EndedAt: 2025-10-01 07:24:49 -0400 (Wed, 01 Oct 2025) EllapsedTime: 1.2 seconds RetCode: 0 Status: OK DeployDestDir: csawBook.book Warnings: 0