Package: SingleRBook Version: 1.21.0 Command: rm -rf SingleRBook.book && mkdir SingleRBook.book && /Users/biocbuild/BBS/utils/deploy_book.py SingleRBook_1.21.0.tar.gz SingleRBook.book StartedAt: 2025-11-21 07:25:53 -0500 (Fri, 21 Nov 2025) EndedAt: 2025-11-21 07:25:53 -0500 (Fri, 21 Nov 2025) EllapsedTime: 0.1 seconds RetCode: 0 Status: OK DeployDestDir: SingleRBook.book Warnings: 0