Package: SingleRBook Version: 1.21.0 Command: /Library/Frameworks/R.framework/Resources/bin/R CMD build --keep-empty-dirs --no-resave-data SingleRBook StartedAt: 2025-11-21 06:51:08 -0500 (Fri, 21 Nov 2025) EndedAt: 2025-11-21 07:01:42 -0500 (Fri, 21 Nov 2025) EllapsedTime: 633.9 seconds RetCode: 0 Status: OK PackageFile: SingleRBook_1.21.0.tar.gz PackageFileSize: 6.735 MiB