Package: OSTA Version: 1.1.1 Command: /home/biocbuild/bbs-3.23-bioc/R/bin/R CMD build --keep-empty-dirs --no-resave-data OSTA StartedAt: 2025-11-21 10:18:21 -0500 (Fri, 21 Nov 2025) EndedAt: 2025-11-21 10:21:27 -0500 (Fri, 21 Nov 2025) EllapsedTime: 186.0 seconds RetCode: 1 Status: ERROR PackageFile: None PackageFileSize: NA