Package: OSTA Version: 1.1.1 Command: /Library/Frameworks/R.framework/Resources/bin/R CMD INSTALL OSTA StartedAt: 2025-11-21 06:45:21 -0500 (Fri, 21 Nov 2025) EndedAt: 2025-11-21 06:45:23 -0500 (Fri, 21 Nov 2025) EllapsedTime: 1.7 seconds RetCode: 0 Status: OK