Package: OSTA Version: 1.1.1 Command: /Library/Frameworks/R.framework/Resources/bin/R CMD build --keep-empty-dirs --no-resave-data OSTA StartedAt: 2025-11-21 06:49:31 -0500 (Fri, 21 Nov 2025) EndedAt: 2025-11-21 06:51:08 -0500 (Fri, 21 Nov 2025) EllapsedTime: 96.9 seconds RetCode: 1 Status: ERROR PackageFile: None PackageFileSize: NA