Package: OSTA Version: 1.1.1 Maintainer: Lukas M. Weber MaintainerEmail: lmweb012 at gmail.com git_url: https://git.bioconductor.org/packages/OSTA git_branch: devel git_last_commit: f37c1f6 git_last_commit_date: 2025-11-04 13:07:48 -0500 (Tue, 04 Nov 2025)