Package: OSCA Version: 1.19.0 Command: /home/biocbuild/bbs-3.22-bioc/R/bin/R CMD build --keep-empty-dirs --no-resave-data OSCA StartedAt: 2025-07-18 06:17:06 -0400 (Fri, 18 Jul 2025) EndedAt: 2025-07-18 06:17:20 -0400 (Fri, 18 Jul 2025) EllapsedTime: 14.0 seconds RetCode: 0 Status: OK PackageFile: OSCA_1.19.0.tar.gz PackageFileSize: 432.5 KiB