Package: OSCA Version: 1.21.0 Command: /home/biocbuild/bbs-3.23-bioc/R/bin/R CMD INSTALL OSCA StartedAt: 2025-11-21 10:15:16 -0500 (Fri, 21 Nov 2025) EndedAt: 2025-11-21 10:15:18 -0500 (Fri, 21 Nov 2025) EllapsedTime: 2.4 seconds RetCode: 0 Status: OK